BEGIN:VCALENDAR
VERSION:2.0
PRODID:-//Varekils IF - ECPv6.15.20//NONSGML v1.0//EN
CALSCALE:GREGORIAN
METHOD:PUBLISH
X-WR-CALNAME:Varekils IF
X-ORIGINAL-URL:https://varekilsif.se
X-WR-CALDESC:Händelser för Varekils IF
REFRESH-INTERVAL;VALUE=DURATION:PT1H
X-Robots-Tag:noindex
X-PUBLISHED-TTL:PT1H
BEGIN:VTIMEZONE
TZID:Europe/Paris
BEGIN:DAYLIGHT
TZOFFSETFROM:+0100
TZOFFSETTO:+0200
TZNAME:CEST
DTSTART:20250330T010000
END:DAYLIGHT
BEGIN:STANDARD
TZOFFSETFROM:+0200
TZOFFSETTO:+0100
TZNAME:CET
DTSTART:20251026T010000
END:STANDARD
BEGIN:DAYLIGHT
TZOFFSETFROM:+0100
TZOFFSETTO:+0200
TZNAME:CEST
DTSTART:20260329T010000
END:DAYLIGHT
BEGIN:STANDARD
TZOFFSETFROM:+0200
TZOFFSETTO:+0100
TZNAME:CET
DTSTART:20261025T010000
END:STANDARD
BEGIN:DAYLIGHT
TZOFFSETFROM:+0100
TZOFFSETTO:+0200
TZNAME:CEST
DTSTART:20270328T010000
END:DAYLIGHT
BEGIN:STANDARD
TZOFFSETFROM:+0200
TZOFFSETTO:+0100
TZNAME:CET
DTSTART:20271031T010000
END:STANDARD
END:VTIMEZONE
BEGIN:VEVENT
DTSTART;TZID=Europe/Paris:20260423T183000
DTEND;TZID=Europe/Paris:20260423T200000
DTSTAMP:20260423T105425
CREATED:20260408T093601Z
LAST-MODIFIED:20260408T093601Z
UID:2083-1776969000-1776974400@varekilsif.se
SUMMARY:Träning Grupp 1
DESCRIPTION:
URL:https://varekilsif.se/event/traning-grupp-1-171/
END:VEVENT
BEGIN:VEVENT
DTSTART;TZID=Europe/Paris:20260427T173000
DTEND;TZID=Europe/Paris:20260427T190000
DTSTAMP:20260423T105425
CREATED:20260408T093632Z
LAST-MODIFIED:20260408T093632Z
UID:2085-1777311000-1777316400@varekilsif.se
SUMMARY:Träning Grupp 1
DESCRIPTION:
URL:https://varekilsif.se/event/traning-grupp-1-172/
END:VEVENT
BEGIN:VEVENT
DTSTART;TZID=Europe/Paris:20260428T163000
DTEND;TZID=Europe/Paris:20260428T180000
DTSTAMP:20260423T105425
CREATED:20260408T093135Z
LAST-MODIFIED:20260408T093135Z
UID:2071-1777393800-1777399200@varekilsif.se
SUMMARY:Träning Nybörjare
DESCRIPTION:
URL:https://varekilsif.se/event/traning-nyborjare-86/
END:VEVENT
BEGIN:VEVENT
DTSTART;TZID=Europe/Paris:20260428T180000
DTEND;TZID=Europe/Paris:20260428T193000
DTSTAMP:20260423T105425
CREATED:20260408T093710Z
LAST-MODIFIED:20260408T093710Z
UID:2087-1777399200-1777404600@varekilsif.se
SUMMARY:Träning Grupp 1
DESCRIPTION:
URL:https://varekilsif.se/event/traning-grupp-1-173/
END:VEVENT
BEGIN:VEVENT
DTSTART;TZID=Europe/Paris:20260428T193000
DTEND;TZID=Europe/Paris:20260428T210000
DTSTAMP:20260423T105425
CREATED:20260408T094022Z
LAST-MODIFIED:20260408T094022Z
UID:2097-1777404600-1777410000@varekilsif.se
SUMMARY:Träning Breddgrupp
DESCRIPTION:
URL:https://varekilsif.se/event/traning-breddgrupp-59/
END:VEVENT
BEGIN:VEVENT
DTSTART;TZID=Europe/Paris:20260430T183000
DTEND;TZID=Europe/Paris:20260430T200000
DTSTAMP:20260423T105425
CREATED:20260408T093742Z
LAST-MODIFIED:20260408T093742Z
UID:2089-1777573800-1777579200@varekilsif.se
SUMMARY:Träning Grupp 1
DESCRIPTION:
URL:https://varekilsif.se/event/traning-grupp-1-174/
END:VEVENT
END:VCALENDAR